BEGIN:VCALENDAR
VERSION:2.0
PRODID:-//Squarespace Inc/Squarespace 6//v6//EN
BEGIN:VEVENT
UID:5ee1b95fc2d74f6080b6f2e8@squarespace.com
DTSTAMP:20200617T054510Z
DTSTART:20200617T030000Z
DTEND:20200617T040000Z
SUMMARY:When Words Matter - how do writers chronicle world-changing events?
END:VEVENT
END:VCALENDAR
