BEGIN:VCALENDAR
VERSION:2.0
PRODID:-//Squarespace Inc/Squarespace 6//v6//EN
BEGIN:VEVENT
UID:5fbe283a3f75b166439ebf11@squarespace.com
DTSTAMP:20201210T072753Z
DTSTART:20201210T060000Z
DTEND:20201210T070000Z
SUMMARY:Meanjin 80th Birthday Party with Behrouz Boochani and Tara June Win
 ch
END:VEVENT
END:VCALENDAR
