BEGIN:VCALENDAR
VERSION:2.0
PRODID:-//Squarespace Inc/Squarespace 6//v6//EN
BEGIN:VEVENT
UID:5ea61b144cf7be23698037d2@squarespace.com
DTSTAMP:20200504T043044Z
DTSTART:20200501T080000Z
DTEND:20200501T090000Z
SUMMARY:The May Day Toast with Sally McManus and Thomas Keneally
END:VEVENT
END:VCALENDAR
