BEGIN:VCALENDAR
VERSION:2.0
PRODID:-//Squarespace Inc/Squarespace 6//v6//EN
BEGIN:VEVENT
UID:5ea0d43fe0e57969e5d1f11f@squarespace.com
DTSTAMP:20200507T060542Z
DTSTART:20200507T030000Z
DTEND:20200507T040000Z
SUMMARY:Lunch with Malcolm
END:VEVENT
END:VCALENDAR
