BEGIN:VCALENDAR
VERSION:2.0
PRODID:-//Squarespace Inc/Squarespace 6//v6//EN
BEGIN:VEVENT
UID:5e9d3929043bae769f528875@squarespace.com
DTSTAMP:20200423T053828Z
DTSTART:20200423T030000Z
DTEND:20200423T040000Z
SUMMARY:'Like a Virus' - Disinformation in the Age of COVID-19.
END:VEVENT
END:VCALENDAR
