BEGIN:VCALENDAR
VERSION:2.0
PRODID:-//Squarespace Inc/Squarespace 6//v6//EN
BEGIN:VEVENT
UID:5ebd155e666dcb4e1be00fcc@squarespace.com
DTSTAMP:20200522T043132Z
DTSTART:20200522T030000Z
DTEND:20200522T040000Z
SUMMARY:Is Coronavirus a laughing matter?
END:VEVENT
END:VCALENDAR
