BEGIN:VCALENDAR
VERSION:2.0
PRODID:-//Squarespace Inc/Squarespace 6//v6//EN
BEGIN:VEVENT
UID:5f20b6962e21d22eeba2edb1@squarespace.com
DTSTAMP:20200804T070348Z
DTSTART:20200804T030000Z
DTEND:20200804T040000Z
SUMMARY:‘Left to Their Own Devices’ - How the Lockdown is Affecting our Kid
 s
END:VEVENT
END:VCALENDAR
