BEGIN:VCALENDAR
VERSION:2.0
PRODID:-//Squarespace Inc/Squarespace 6//v6//EN
BEGIN:VEVENT
UID:5e96aa6b7dcc25077f724240@squarespace.com
DTSTAMP:20200417T045829Z
DTSTART:20200417T030000Z
DTEND:20200417T040000Z
SUMMARY:Keeping food on the table
END:VEVENT
END:VCALENDAR
