BEGIN:VCALENDAR
VERSION:2.0
PRODID:-//Squarespace Inc/Squarespace 6//v6//EN
BEGIN:VEVENT
UID:5fd6ff467fc52c20693afd29@squarespace.com
DTSTAMP:20201218T053917Z
DTSTART:20201218T000000Z
DTEND:20201218T010000Z
SUMMARY:Keeping Early Learning at the Top of the Agenda in 2021
END:VEVENT
END:VCALENDAR
