BEGIN:VCALENDAR
VERSION:2.0
PRODID:-//Squarespace Inc/Squarespace 6//v6//EN
BEGIN:VEVENT
UID:5e98fefbdafb0b5647fc3a80@squarespace.com
DTSTAMP:20200422T054657Z
DTSTART:20200422T030000Z
DTEND:20200422T040000Z
SUMMARY:'Debt or Destitution - the hard choices facing Australia' 
END:VEVENT
END:VCALENDAR
