BEGIN:VCALENDAR
VERSION:2.0
PRODID:-//Squarespace Inc/Squarespace 6//v6//EN
BEGIN:VEVENT
UID:5e8690bb179d333a495e13af@squarespace.com
DTSTAMP:20200415T051727Z
DTSTART:20200408T030000Z
DTEND:20200408T040000Z
SUMMARY:Human Rights Commissioner Ed Santow: 'Human Rights\, AI and Covid-1
 9'
END:VEVENT
END:VCALENDAR
