BEGIN:VCALENDAR
VERSION:2.0
PRODID:-//Squarespace Inc/Squarespace 6//v6//EN
BEGIN:VEVENT
UID:5ee875aa0ab7127cfb3cd78f@squarespace.com
DTSTAMP:20200624T070728Z
DTSTART:20200624T023000Z
DTEND:20200624T033000Z
SUMMARY:Democracy in Hong Kong?
END:VEVENT
END:VCALENDAR
