BEGIN:VCALENDAR
VERSION:2.0
PRODID:-//Squarespace Inc/Squarespace 6//v6//EN
BEGIN:VEVENT
UID:5f1a19bb2ad02a28c886af2f@squarespace.com
DTSTAMP:20200806T041623Z
DTSTART:20200803T020000Z
DTEND:20200803T033000Z
SUMMARY:Homelessness Week Launch - “Everybody Needs a Home”
END:VEVENT
END:VCALENDAR
