BEGIN:VCALENDAR
VERSION:2.0
PRODID:-//Squarespace Inc/Squarespace 6//v6//EN
BEGIN:VEVENT
UID:5e98f9f2391a493f1017d18f@squarespace.com
DTSTAMP:20200420T070014Z
DTSTART:20200420T030000Z
DTEND:20200420T040000Z
SUMMARY:Stay Where? What the pandemic teaches us about housing.
END:VEVENT
END:VCALENDAR
