BEGIN:VCALENDAR
VERSION:2.0
PRODID:-//Squarespace Inc/Squarespace 6//v6//EN
BEGIN:VEVENT
UID:5f479aeb6f78af03f83de2c8@squarespace.com
DTSTAMP:20200917T044316Z
DTSTART:20200917T030000Z
DTEND:20200917T040000Z
SUMMARY:Guardian Australia's Book Club: Women vs the Medical System
END:VEVENT
END:VCALENDAR
