BEGIN:VCALENDAR
VERSION:2.0
PRODID:-//Squarespace Inc/Squarespace 6//v6//EN
BEGIN:VEVENT
UID:5f97adf3cf81474926e9c4a9@squarespace.com
DTSTAMP:20201106T033952Z
DTSTART:20201106T020000Z
DTEND:20201106T030000Z
SUMMARY:Guardian Australia's Book Club: Helen Garner
END:VEVENT
END:VCALENDAR
