BEGIN:VCALENDAR
VERSION:2.0
PRODID:-//Squarespace Inc/Squarespace 6//v6//EN
BEGIN:VEVENT
UID:5f742cf8ca1faf7003670791@squarespace.com
DTSTAMP:20201009T045119Z
DTSTART:20201009T020000Z
DTEND:20201009T030000Z
SUMMARY:Guardian Australia Book Club: Jimmy Barnes
END:VEVENT
END:VCALENDAR
