BEGIN:VCALENDAR
VERSION:2.0
PRODID:-//Squarespace Inc/Squarespace 6//v6//EN
BEGIN:VEVENT
UID:5fc07de6cb3e0f577168505d@squarespace.com
DTSTAMP:20201209T034241Z
DTSTART:20201209T020000Z
DTEND:20201209T030000Z
SUMMARY:Giving from the Ground Up
END:VEVENT
END:VCALENDAR
