BEGIN:VCALENDAR
VERSION:2.0
PRODID:-//Squarespace Inc/Squarespace 6//v6//EN
BEGIN:VEVENT
UID:5f1559590d827025118a50d4@squarespace.com
DTSTAMP:20200728T053314Z
DTSTART:20200728T030000Z
DTEND:20200728T040000Z
SUMMARY:Special Political Geekfest with Katharine Murphy
END:VEVENT
END:VCALENDAR
