BEGIN:VCALENDAR
VERSION:2.0
PRODID:-//Squarespace Inc/Squarespace 6//v6//EN
BEGIN:VEVENT
UID:5f2129a677171508bd58ebd6@squarespace.com
DTSTAMP:20200811T064926Z
DTSTART:20200811T030000Z
DTEND:20200811T040000Z
SUMMARY:The Fortnightly Political Geekfest
END:VEVENT
END:VCALENDAR
