BEGIN:VCALENDAR
VERSION:2.0
PRODID:-//Squarespace Inc/Squarespace 6//v6//EN
BEGIN:VEVENT
UID:5f6c47600b3f4f7a051142e4@squarespace.com
DTSTAMP:20201006T043442Z
DTSTART:20201006T020000Z
DTEND:20201006T030000Z
SUMMARY:The Fortnightly Political Geekfest
END:VEVENT
END:VCALENDAR
