BEGIN:VCALENDAR
VERSION:2.0
PRODID:-//Squarespace Inc/Squarespace 6//v6//EN
BEGIN:VEVENT
UID:5f97571a8ca15028ed61881d@squarespace.com
DTSTAMP:20201103T061752Z
DTSTART:20201103T020000Z
DTEND:20201103T030000Z
SUMMARY:The Political Geekfest with Katharine Murphy
END:VEVENT
END:VCALENDAR
