BEGIN:VCALENDAR
VERSION:2.0
PRODID:-//Squarespace Inc/Squarespace 6//v6//EN
BEGIN:VEVENT
UID:6011f0c69558bf1e869544e7@squarespace.com
DTSTAMP:20210202T031610Z
DTSTART:20210202T020000Z
DTEND:20210202T030000Z
SUMMARY:The Political Geekfest
END:VEVENT
END:VCALENDAR
