BEGIN:VCALENDAR
VERSION:2.0
PRODID:-//Squarespace Inc/Squarespace 6//v6//EN
BEGIN:VEVENT
UID:5ec3425e7eeeea38ef645482@squarespace.com
DTSTAMP:20200526T052138Z
DTSTART:20200526T030000Z
DTEND:20200526T040000Z
SUMMARY:The weekly Geekfest with Andrew West\, Kos Samaras &amp\; Peter Lew
 is
END:VEVENT
END:VCALENDAR
