BEGIN:VCALENDAR
VERSION:2.0
PRODID:-//Squarespace Inc/Squarespace 6//v6//EN
BEGIN:VEVENT
UID:5f607737191d10200bf72472@squarespace.com
DTSTAMP:20200924T071440Z
DTSTART:20200922T030000Z
DTEND:20200922T040000Z
SUMMARY:The Fortnightly Political Geekfest
END:VEVENT
END:VCALENDAR
