BEGIN:VCALENDAR
VERSION:2.0
PRODID:-//Squarespace Inc/Squarespace 6//v6//EN
BEGIN:VEVENT
UID:5fb64980567783656edc7b83@squarespace.com
DTSTAMP:20201201T050250Z
DTSTART:20201201T020000Z
DTEND:20201201T030000Z
SUMMARY:The Political Geekfest with Katharine Murphy
END:VEVENT
END:VCALENDAR
