BEGIN:VCALENDAR
VERSION:2.0
PRODID:-//Squarespace Inc/Squarespace 6//v6//EN
BEGIN:VEVENT
UID:5ebcf6bb760bdb15c2b4f3fc@squarespace.com
DTSTAMP:20200519T045520Z
DTSTART:20200519T030000Z
DTEND:20200519T040000Z
SUMMARY:The weekly Geekfest with Katharine Murphy &amp\; Peter Lewis
END:VEVENT
END:VCALENDAR
