BEGIN:VCALENDAR
VERSION:2.0
PRODID:-//Squarespace Inc/Squarespace 6//v6//EN
BEGIN:VEVENT
UID:5fa46fbea3dfce1ecaa081cf@squarespace.com
DTSTAMP:20201119T103128Z
DTSTART:20201117T020000Z
DTEND:20201117T030000Z
SUMMARY:The Political Geekfest with Katharine Murphy
END:VEVENT
END:VCALENDAR
