BEGIN:VCALENDAR
VERSION:2.0
PRODID:-//Squarespace Inc/Squarespace 6//v6//EN
BEGIN:VEVENT
UID:6018c3fa76949d5e66e731ec@squarespace.com
DTSTAMP:20210216T032839Z
DTSTART:20210216T020000Z
DTEND:20210216T030000Z
SUMMARY:The Political Geekfest
END:VEVENT
END:VCALENDAR
