BEGIN:VCALENDAR
VERSION:2.0
PRODID:-//Squarespace Inc/Squarespace 6//v6//EN
BEGIN:VEVENT
UID:5fd15d0e0f163860c7a0c54f@squarespace.com
DTSTAMP:20201215T035715Z
DTSTART:20201215T020000Z
DTEND:20201215T030000Z
SUMMARY:The Political Geekfest with Katharine Murphy
END:VEVENT
END:VCALENDAR
