BEGIN:VCALENDAR
VERSION:2.0
PRODID:-//Squarespace Inc/Squarespace 6//v6//EN
BEGIN:VEVENT
UID:5ee872780106310a533fcd19@squarespace.com
DTSTAMP:20200623T043357Z
DTSTART:20200623T023000Z
DTEND:20200623T033000Z
SUMMARY:The final weekly Geekfest (for now) - note new time of 12.30pm 
END:VEVENT
END:VCALENDAR
