BEGIN:VCALENDAR
VERSION:2.0
PRODID:-//Squarespace Inc/Squarespace 6//v6//EN
BEGIN:VEVENT
UID:5ee0278df076d871190e2d70@squarespace.com
DTSTAMP:20200617T054527Z
DTSTART:20200616T030000Z
DTEND:20200616T040000Z
SUMMARY:Geekfest with Guardian Journalist &amp\; Peter Lewis
END:VEVENT
END:VCALENDAR
