BEGIN:VCALENDAR
VERSION:2.0
PRODID:-//Squarespace Inc/Squarespace 6//v6//EN
BEGIN:VEVENT
UID:5ed595922f232e4a1f50198d@squarespace.com
DTSTAMP:20200609T061706Z
DTSTART:20200609T030000Z
DTEND:20200609T040000Z
SUMMARY:The weekly Geekfest with Katharine Murphy &amp\; Peter Lewis
END:VEVENT
END:VCALENDAR
