BEGIN:VCALENDAR
VERSION:2.0
PRODID:-//Squarespace Inc/Squarespace 6//v6//EN
BEGIN:VEVENT
UID:5ed0ca21fae079739620b6d5@squarespace.com
DTSTAMP:20200602T054701Z
DTSTART:20200602T030000Z
DTEND:20200602T040000Z
SUMMARY:The weekly Geekfest with Katharine Murphy &amp\; Peter Lewis
END:VEVENT
END:VCALENDAR
