BEGIN:VCALENDAR
VERSION:2.0
PRODID:-//Squarespace Inc/Squarespace 6//v6//EN
BEGIN:VEVENT
UID:5f7686ab720d8b24575dd3bf@squarespace.com
DTSTAMP:20201020T040920Z
DTSTART:20201020T020000Z
DTEND:20201020T030000Z
SUMMARY:The Political Geekfest with Katharine Murphy
END:VEVENT
END:VCALENDAR
