BEGIN:VCALENDAR
VERSION:2.0
PRODID:-//Squarespace Inc/Squarespace 6//v6//EN
BEGIN:VEVENT
UID:5ea8dbf2d34896451b7fba87@squarespace.com
DTSTAMP:20200505T062532Z
DTSTART:20200505T030000Z
DTEND:20200505T040000Z
SUMMARY:"The Political Geekfest" Katharine Murphy and Peter Lewis pore over 
 the weekly Guardian Essential report.
END:VEVENT
END:VCALENDAR
