BEGIN:VCALENDAR
VERSION:2.0
PRODID:-//Squarespace Inc/Squarespace 6//v6//EN
BEGIN:VEVENT
UID:5e8d1dd42583af3224c7cb94@squarespace.com
DTSTAMP:20200415T051827Z
DTSTART:20200414T030000Z
DTEND:20200414T040000Z
SUMMARY:“The Political GeekFest” Katharine Murphy and Peter Lewis pore over 
 the weekly Guardian Essential report
END:VEVENT
END:VCALENDAR
