BEGIN:VCALENDAR
VERSION:2.0
PRODID:-//Squarespace Inc/Squarespace 6//v6//EN
BEGIN:VEVENT
UID:602b4ae8e785d5069808015a@squarespace.com
DTSTAMP:20210216T043409Z
DTSTART:20210302T020000Z
DTEND:20210302T030000Z
SUMMARY:The Political Geekfest
END:VEVENT
END:VCALENDAR
