BEGIN:VCALENDAR
VERSION:2.0
PRODID:-//Squarespace Inc/Squarespace 6//v6//EN
BEGIN:VEVENT
UID:5ea125a05ecdf63a56818a2e@squarespace.com
DTSTAMP:20200427T060243Z
DTSTART:20200427T030000Z
DTEND:20200427T040000Z
SUMMARY:Gambling in the time of coronavirus
END:VEVENT
END:VCALENDAR
