BEGIN:VCALENDAR
VERSION:2.0
PRODID:-//Squarespace Inc/Squarespace 6//v6//EN
BEGIN:VEVENT
UID:5f085c6ddb9508010b1d5549@squarespace.com
DTSTAMP:20200727T053449Z
DTSTART:20200727T030000Z
DTEND:20200727T040000Z
SUMMARY:Good work - do we need a new standard post-COVID?
END:VEVENT
END:VCALENDAR
