BEGIN:VCALENDAR
VERSION:2.0
PRODID:-//Squarespace Inc/Squarespace 6//v6//EN
BEGIN:VEVENT
UID:5eaa2d3ca2a5170de37a9e2d@squarespace.com
DTSTAMP:20200508T051128Z
DTSTART:20200508T030000Z
DTEND:20200508T040000Z
SUMMARY:From the beach to the suburbs\, how will COVID-19 change cities?
END:VEVENT
END:VCALENDAR
