BEGIN:VCALENDAR
VERSION:2.0
PRODID:-//Squarespace Inc/Squarespace 6//v6//EN
BEGIN:VEVENT
UID:5f4b67534ada6c4dfaf31c24@squarespace.com
DTSTAMP:20200918T071728Z
DTSTART:20200918T030000Z
DTEND:20200918T040000Z
SUMMARY:Fortnightly Tech Talk - Surveillance Capitalism for Dummies
END:VEVENT
END:VCALENDAR
