BEGIN:VCALENDAR
VERSION:2.0
PRODID:-//Squarespace Inc/Squarespace 6//v6//EN
BEGIN:VEVENT
UID:5ee9e1b4184a8c0df9815184@squarespace.com
DTSTAMP:20200623T020358Z
DTSTART:20200626T030000Z
DTEND:20200626T040000Z
SUMMARY:Last Drinks - Australia at Home wrap party
END:VEVENT
END:VCALENDAR
