BEGIN:VCALENDAR
VERSION:2.0
PRODID:-//Squarespace Inc/Squarespace 6//v6//EN
BEGIN:VEVENT
UID:5ed0ce1789d12f1ce6fd5186@squarespace.com
DTSTAMP:20200617T055757Z
DTSTART:20200605T030000Z
DTEND:20200605T040000Z
SUMMARY:Filthy Rich and Homeless 
END:VEVENT
END:VCALENDAR
