BEGIN:VCALENDAR
VERSION:2.0
PRODID:-//Squarespace Inc/Squarespace 6//v6//EN
BEGIN:VEVENT
UID:5ec34a3bf2ce0f1ab88533d6@squarespace.com
DTSTAMP:20200527T043225Z
DTSTART:20200527T030000Z
DTEND:20200527T040000Z
SUMMARY:State of the Nation: Has the National Cabinet changed the nation fo
 r good?
END:VEVENT
END:VCALENDAR
