BEGIN:VCALENDAR
VERSION:2.0
PRODID:-//Squarespace Inc/Squarespace 6//v6//EN
BEGIN:VEVENT
UID:5ebe20590a67ce269cc4aca6@squarespace.com
DTSTAMP:20200520T055405Z
DTSTART:20200520T030000Z
DTEND:20200520T040000Z
SUMMARY:Lunch with Mehreen Faruqi and Osman Faruqi
END:VEVENT
END:VCALENDAR
