BEGIN:VCALENDAR
VERSION:2.0
PRODID:-//Squarespace Inc/Squarespace 6//v6//EN
BEGIN:VEVENT
UID:5e8685bc12a7e1791bedd538@squarespace.com
DTSTAMP:20200415T051706Z
DTSTART:20200407T030000Z
DTEND:20200407T040000Z
SUMMARY:'The Political GeekFest' with Katharine Murphy &amp\; Peter Lewis
END:VEVENT
END:VCALENDAR
