BEGIN:VCALENDAR
VERSION:2.0
PRODID:-//Squarespace Inc/Squarespace 6//v6//EN
BEGIN:VEVENT
UID:5e7db31a86693d3dccdc9faa@squarespace.com
DTSTAMP:20200415T045747Z
DTSTART:20200331T020000Z
DTEND:20200331T030000Z
SUMMARY:Mood of the Nation: Katharine Murphy in conversation with Peter Lew
 is
END:VEVENT
END:VCALENDAR
