BEGIN:VCALENDAR
VERSION:2.0
PRODID:-//Squarespace Inc/Squarespace 6//v6//EN
BEGIN:VEVENT
UID:5ea0d7520068834115414943@squarespace.com
DTSTAMP:20200428T050616Z
DTSTART:20200428T030000Z
DTEND:20200428T040000Z
SUMMARY:"The Political Geekfest" Malcolm Farr and Peter Lewis pore over the 
 weekly Guardian Essential report.
END:VEVENT
END:VCALENDAR
