BEGIN:VCALENDAR
VERSION:2.0
PRODID:-//Squarespace Inc/Squarespace 6//v6//EN
BEGIN:VEVENT
UID:5e9903215282392b135ec8af@squarespace.com
DTSTAMP:20200422T234626Z
DTSTART:20200421T030000Z
DTEND:20200421T040000Z
SUMMARY:"The Political Geekfest" Katharine Murphy and Peter Lewis pore over 
 the weekly Guardian Essential report.
END:VEVENT
END:VCALENDAR
